BEGIN:VCALENDAR
VERSION:2.0
PRODID:-//OmniMagnetCalendar//EN
BEGIN:VEVENT
DTSTAMP:20190625T195740Z
STATUS:CONFIRMED
UID:harvardutah.clubs.harvard.edu223
DTSTART:20230118T020000Z
DTEND:20230118T033000Z
LOCATION:Huntsman Cancer Institute Auditorium,  2000 Circle of Hope , Salt Lake City, UT, 84112,
SUMMARY:The Harvard Din & Tonics in Utah!
DESCRIPTION:The Harvard Alumni Association of Utah invites you and your friends to an evening of a capella with the Harvard Din & Tonics.  
BEGIN:VALARM
TRIGGER:-PT15M
ACTION:DISPLAY
END:VALARM
TRANSP:OPAQUE
END:VEVENT
END:VCALENDAR
