BEGIN:VCALENDAR
VERSION:2.0
PRODID:-//OmniMagnetCalendar//EN
BEGIN:VEVENT
DTSTAMP:20190625T195740Z
STATUS:CONFIRMED
UID:harvardutah.clubs.harvard.edu224
DTSTART:20230323T000000Z
DTEND:20230323T013000Z
LOCATION:Virtual   https://us06web.zoom.us/j/84327478292 ,
SUMMARY:HAAU Speakers Bureau Guest Lecturer Juliette Kayyem
DESCRIPTION:
BEGIN:VALARM
TRIGGER:-PT15M
ACTION:DISPLAY
END:VALARM
TRANSP:OPAQUE
END:VEVENT
END:VCALENDAR
