BEGIN:VCALENDAR
VERSION:2.0
PRODID:-//OmniMagnetCalendar//EN
BEGIN:VEVENT
DTSTAMP:20190625T195740Z
STATUS:CONFIRMED
UID:harvardutah.clubs.harvard.edu234
DTSTART:20240131T003000Z
DTEND:20240131T020000Z
LOCATION:Key Bank Tower at City Creek, 36 South State Street, 16th floor, Salt Lake City, UT,
SUMMARY:The State of Utah Health Care: A discussion with Rob Allen, president & CEO – Intermountain Health
DESCRIPTION:The State of Utah Health Care A discussion with Rob Allen, president and CEO of Intermountain Health
BEGIN:VALARM
TRIGGER:-PT15M
ACTION:DISPLAY
END:VALARM
TRANSP:OPAQUE
END:VEVENT
END:VCALENDAR
