BEGIN:VCALENDAR
VERSION:2.0
PRODID:-//OmniMagnetCalendar//EN
BEGIN:VEVENT
DTSTAMP:20190625T195740Z
STATUS:CONFIRMED
UID:harvardutah.clubs.harvard.edu244
DTSTART:20241011T000000Z
DTEND:20241011T013000Z
LOCATION:Zions Bank Building, 1 South Main Street, 18th Floor, Salt Lake City, UT, 84133, USA,
SUMMARY:Lessons Learned from a Lifetime in Banking - Harris Simmons, Chairman & CEO of Zions Bancorporation
DESCRIPTION:
BEGIN:VALARM
TRIGGER:-PT15M
ACTION:DISPLAY
END:VALARM
TRANSP:OPAQUE
END:VEVENT
END:VCALENDAR
