BEGIN:VCALENDAR
VERSION:2.0
PRODID:-//OmniMagnetCalendar//EN
BEGIN:VEVENT
DTSTAMP:20190625T195740Z
STATUS:CONFIRMED
UID:harvardutah.clubs.harvard.edu261
DTSTART:20250614T160000Z
DTEND:20250614T180000Z
LOCATION:Exact Location TBA, Salt Lake City, UT, USA,
SUMMARY:Wasatch Community Gardens Service Project
DESCRIPTION:
BEGIN:VALARM
TRIGGER:-PT15M
ACTION:DISPLAY
END:VALARM
TRANSP:OPAQUE
END:VEVENT
END:VCALENDAR
