BEGIN:VCALENDAR
VERSION:2.0
PRODID:-//OmniMagnetCalendar//EN
BEGIN:VEVENT
DTSTAMP:20190625T195740Z
STATUS:CONFIRMED
UID:harvardutah.clubs.harvard.edu267
DTSTART:20251001T000000Z
DTEND:20251001T020000Z
LOCATION:Maxwell's Little Bar, 328 W 200 S, Apt 102, Salt Lake City, UT, 84101, USA,
SUMMARY:HAAU Welcome to Your City
DESCRIPTION:
BEGIN:VALARM
TRIGGER:-PT15M
ACTION:DISPLAY
END:VALARM
TRANSP:OPAQUE
END:VEVENT
END:VCALENDAR
