BEGIN:VCALENDAR
VERSION:2.0
PRODID:-//OmniMagnetCalendar//EN
BEGIN:VEVENT
DTSTAMP:20190625T195740Z
STATUS:CONFIRMED
UID:harvardutah.clubs.harvard.edu268
DTSTART:20250830T160000Z
DTEND:20250830T180000Z
LOCATION:Rose Park at Riverside Community Garden, 871 N. Cornell St. (1525 W.), Salt Lake City, UT, USA,
SUMMARY:HAAU Global Day of Service 2025
DESCRIPTION:
BEGIN:VALARM
TRIGGER:-PT15M
ACTION:DISPLAY
END:VALARM
TRANSP:OPAQUE
END:VEVENT
END:VCALENDAR
