BEGIN:VCALENDAR
VERSION:2.0
PRODID:-//OmniMagnetCalendar//EN
BEGIN:VEVENT
DTSTAMP:20190625T195740Z
STATUS:CONFIRMED
UID:harvardutah.clubs.harvard.edu272
DTSTART:20251114T010000Z
DTEND:20251114T030000Z
LOCATION:Zions Bank Building, 1 South Main Street, 18th Floor, Salt Lake City, UT, 84133, USA,
SUMMARY:The Mandate and the Mandarins: Principled Monetary Policy in a Populist Age with Randal Quarles
DESCRIPTION:
BEGIN:VALARM
TRIGGER:-PT15M
ACTION:DISPLAY
END:VALARM
TRANSP:OPAQUE
END:VEVENT
END:VCALENDAR
