BEGIN:VCALENDAR
VERSION:2.0
PRODID:-//OmniMagnetCalendar//EN
BEGIN:VEVENT
DTSTAMP:20190625T195740Z
STATUS:CONFIRMED
UID:harvardutah.clubs.harvard.edu274
DTSTART:20251101T164500Z
DTEND:20251101T190000Z
LOCATION:Momentum Millcreek Location, 3173 E 3300 S, Salt Lake City, UT, 84109, USA,
SUMMARY:Harvard Moves 2025: Climbing!
DESCRIPTION:
BEGIN:VALARM
TRIGGER:-PT15M
ACTION:DISPLAY
END:VALARM
TRANSP:OPAQUE
END:VEVENT
END:VCALENDAR
